BEGIN:VCALENDAR
VERSION:2.0
PRODID:SchoolNow
CALSCALE:GREGORIAN
BEGIN:VEVENT
UID:2b45b614-1756-11f1-84a1-0affcff659cb
DTSTAMP:20260423T215114Z
SUMMARY:HS Multicultural Festival
LOCATION:Classrooms\, LGI\, Gym
URL;VALUE=URI:https://www.rak12.org/calendar/8888912/hs-multicultural-festi
 val
DTSTART;VALUE=DATE:20260424
DTEND;VALUE=DATE:20260425
END:VEVENT
END:VCALENDAR
