BEGIN:VCALENDAR
VERSION:2.0
PRODID:SchoolNow
CALSCALE:GREGORIAN
BEGIN:VEVENT
UID:2b45d5f4-1756-11f1-8ac7-0affcff659cb
DTSTAMP:20260423T215115Z
SUMMARY:7th and 8th Grade Dance
LOCATION:1st Floor Flex
URL;VALUE=URI:https://www.rak12.org/calendar/8888913/7th-and-8th-grade-danc
 e
DTSTART:20260306T233000Z
DTEND:20260307T013000Z
END:VEVENT
END:VCALENDAR
