BEGIN:VCALENDAR
VERSION:2.0
PRODID:SchoolNow
CALSCALE:GREGORIAN
BEGIN:VEVENT
UID:2b6354bc-1756-11f1-9824-0affcff659cb
DTSTAMP:20260423T215114Z
SUMMARY:MS Pi-lymics Day
LOCATION:Bus Loop\, Playground\, Car loop
URL;VALUE=URI:https://www.rak12.org/calendar/8888914/ms-pi-lymics-day
DTSTART:20260323T175000Z
DTEND:20260323T190000Z
END:VEVENT
END:VCALENDAR
