BEGIN:VCALENDAR
VERSION:2.0
PRODID:SchoolNow
CALSCALE:GREGORIAN
BEGIN:VEVENT
UID:2b635a98-1756-11f1-b75d-0affcff659cb
DTSTAMP:20260423T215115Z
SUMMARY:MiniThon event for all K-12 families and Staff
LOCATION:Bus Loop
URL;VALUE=URI:https://www.rak12.org/calendar/8888915/minithon-event-for-all
 -k-12-families-and-staff
DTSTART:20260424T213000Z
DTEND:20260424T233000Z
END:VEVENT
END:VCALENDAR
