BEGIN:VCALENDAR
VERSION:2.0
PRODID:SchoolNow
CALSCALE:GREGORIAN
BEGIN:VEVENT
UID:2b635e4e-1756-11f1-8c4c-0affcff659cb
DTSTAMP:20260423T215115Z
SUMMARY:Adult Basketball
URL;VALUE=URI:https://www.rak12.org/calendar/8888917/adult-basketball
DTSTART:20260323T220000Z
DTEND:20260324T000000Z
END:VEVENT
END:VCALENDAR
