BEGIN:VCALENDAR
VERSION:2.0
PRODID:SchoolNow
CALSCALE:GREGORIAN
BEGIN:VEVENT
UID:2b7e9682-1756-11f1-8576-0affcff659cb
DTSTAMP:20260423T215114Z
SUMMARY:RA Knights 4-12 grade Band Dress Rehearsal
LOCATION:Gym and Stage
URL;VALUE=URI:https://www.rak12.org/calendar/8888919/ra-knights-4-12-grade-
 band-dress-rehearsal
DTSTART:20260331T133000Z
DTEND:20260331T143000Z
END:VEVENT
END:VCALENDAR
