BEGIN:VCALENDAR
VERSION:2.0
PRODID:SchoolNow
CALSCALE:GREGORIAN
BEGIN:VEVENT
UID:21b9395a-1822-11f1-b9f3-0a58a9feac02
DTSTAMP:20260423T215115Z
SUMMARY:Adult Basketball
LOCATION:US Gym
URL;VALUE=URI:https://www.rak12.org/calendar/8891725/adult-basketball
DTSTART:20260310T220000Z
DTEND:20260311T000000Z
END:VEVENT
END:VCALENDAR
