BEGIN:VCALENDAR
VERSION:2.0
PRODID:SchoolNow
CALSCALE:GREGORIAN
BEGIN:VEVENT
UID:21b9427e-1822-11f1-b125-0a58a9feac02
DTSTAMP:20260423T215114Z
SUMMARY:Adult Basketball
LOCATION:US Gym
URL;VALUE=URI:https://www.rak12.org/calendar/8891726/adult-basketball
DTSTART:20260312T220000Z
DTEND:20260313T000000Z
END:VEVENT
END:VCALENDAR
