BEGIN:VCALENDAR
VERSION:2.0
PRODID:SchoolNow
CALSCALE:GREGORIAN
BEGIN:VEVENT
UID:f494a99c-1bea-11f1-b170-0211d309e739
DTSTAMP:20260423T215114Z
SUMMARY:Basketball
LOCATION:US Gym
URL;VALUE=URI:https://www.rak12.org/calendar/8905032/basketball
DTSTART:20260328T160000Z
DTEND:20260328T173000Z
END:VEVENT
END:VCALENDAR
