BEGIN:VCALENDAR
VERSION:2.0
PRODID:SchoolNow
CALSCALE:GREGORIAN
BEGIN:VEVENT
UID:f494b52c-1bea-11f1-9df0-0211d309e739
DTSTAMP:20260423T215114Z
SUMMARY:Basketball
LOCATION:US Gym
URL;VALUE=URI:https://www.rak12.org/calendar/8905035/basketball
DTSTART:20260402T223000Z
DTEND:20260403T000000Z
END:VEVENT
END:VCALENDAR
