BEGIN:VCALENDAR
VERSION:2.0
PRODID:SchoolNow
CALSCALE:GREGORIAN
BEGIN:VEVENT
UID:f4b3e7bc-1bea-11f1-a7ed-0211d309e739
DTSTAMP:20260423T215114Z
SUMMARY:Basketball
LOCATION:US Gym
URL;VALUE=URI:https://www.rak12.org/calendar/8905036/basketball
DTSTART:20260321T160000Z
DTEND:20260321T173000Z
END:VEVENT
END:VCALENDAR
