BEGIN:VCALENDAR
VERSION:2.0
PRODID:SchoolNow
CALSCALE:GREGORIAN
BEGIN:VEVENT
UID:f4b3ed2a-1bea-11f1-bd25-0211d309e739
DTSTAMP:20260423T215114Z
SUMMARY:Basketball
LOCATION:US Gym
URL;VALUE=URI:https://www.rak12.org/calendar/8905037/basketball
DTSTART:20260404T160000Z
DTEND:20260404T173000Z
END:VEVENT
END:VCALENDAR
