BEGIN:VCALENDAR
VERSION:2.0
PRODID:SchoolNow
CALSCALE:GREGORIAN
BEGIN:VEVENT
UID:f4b3efdc-1bea-11f1-8725-0211d309e739
DTSTAMP:20260423T215114Z
SUMMARY:Basketball
LOCATION:US Gym
URL;VALUE=URI:https://www.rak12.org/calendar/8905038/basketball
DTSTART:20260319T223000Z
DTEND:20260320T000000Z
END:VEVENT
END:VCALENDAR
