BEGIN:VCALENDAR
VERSION:2.0
PRODID:SchoolNow
CALSCALE:GREGORIAN
BEGIN:VEVENT
UID:c1d688f0-1fb3-11f1-97a0-0a58a9feac02
DTSTAMP:20260423T215114Z
SUMMARY:High School Know Your Rights Session
LOCATION:LGI A & B
URL;VALUE=URI:https://www.rak12.org/calendar/8917966/high-school-know-your-
 rights-session
DTSTART:20260324T180000Z
DTEND:20260324T190000Z
END:VEVENT
END:VCALENDAR
