BEGIN:VCALENDAR
VERSION:2.0
PRODID:SchoolNow
CALSCALE:GREGORIAN
BEGIN:VEVENT
UID:b15f52a0-217e-11f1-9528-0a58a9feac02
DTSTAMP:20260423T215114Z
SUMMARY:PASC Soccer
URL;VALUE=URI:https://www.rak12.org/calendar/8923595/pasc-soccer
DTSTART:20260317T213000Z
DTEND:20260318T003000Z
END:VEVENT
END:VCALENDAR
