BEGIN:VCALENDAR
VERSION:2.0
PRODID:SchoolNow
CALSCALE:GREGORIAN
BEGIN:VEVENT
UID:98cde612-2326-11f1-a01e-0a58a9feac02
DTSTAMP:20260423T234007Z
SUMMARY:Middle School Boys Baseball @ Morrisville MS/HS
LOCATION:97 n Delmorr Ave Morrisville\, PA 19067
URL;VALUE=URI:https://www.rak12.org/calendar/8928893/middle-school-boys-bas
 eball-morrisville-ms-hs
DTSTART:20260330T193000Z
DTEND:20260330T203000Z
END:VEVENT
END:VCALENDAR
