BEGIN:VCALENDAR
VERSION:2.0
PRODID:SchoolNow
CALSCALE:GREGORIAN
BEGIN:VEVENT
UID:8f739b14-23af-11f1-8b09-02c108d38e31
DTSTAMP:20260423T215115Z
SUMMARY:Open House
URL;VALUE=URI:https://www.rak12.org/calendar/8930718/open-house
DTSTART:20260330T220000Z
DTEND:20260331T000000Z
END:VEVENT
END:VCALENDAR
