BEGIN:VCALENDAR
VERSION:2.0
PRODID:SchoolNow
CALSCALE:GREGORIAN
BEGIN:VEVENT
UID:7b731424-2557-11f1-a5be-02f1467075b1
DTSTAMP:20260423T173508Z
SUMMARY:Varsity Girls Soccer  Preseason Open Gym (Practice)
LOCATION:413 Fairview Street Phoenixville\, PA 19460
URL;VALUE=URI:https://www.rak12.org/calendar/8935639/varsity-girls-soccer-p
 reseason-open-gym-practice
DTSTART:20260423T194500Z
DTEND:20260423T204500Z
END:VEVENT
END:VCALENDAR
