BEGIN:VCALENDAR
VERSION:2.0
PRODID:SchoolNow
CALSCALE:GREGORIAN
BEGIN:VEVENT
UID:7b7c0b56-2557-11f1-bb2d-02f1467075b1
DTSTAMP:20260423T173508Z
SUMMARY:Varsity Girls Soccer  Preseason Open Gym (Practice)
LOCATION:413 Fairview Street Phoenixville\, PA 19460
URL;VALUE=URI:https://www.rak12.org/calendar/8935650/varsity-girls-soccer-p
 reseason-open-gym-practice
DTSTART:20260416T194500Z
DTEND:20260416T204500Z
END:VEVENT
END:VCALENDAR
