BEGIN:VCALENDAR
VERSION:2.0
PRODID:SchoolNow
CALSCALE:GREGORIAN
BEGIN:VEVENT
UID:7b7c0de0-2557-11f1-afcc-02f1467075b1
DTSTAMP:20260423T173508Z
SUMMARY:Varsity Girls Soccer  Preseason Open Gym (Practice)
LOCATION:413 Fairview Street Phoenixville\, PA 19460
URL;VALUE=URI:https://www.rak12.org/calendar/8935652/varsity-girls-soccer-p
 reseason-open-gym-practice
DTSTART:20260430T194500Z
DTEND:20260430T204500Z
END:VEVENT
END:VCALENDAR
