BEGIN:VCALENDAR
VERSION:2.0
PRODID:SchoolNow
CALSCALE:GREGORIAN
BEGIN:VEVENT
UID:6169d2c2-2712-11f1-b958-0a58a9feac02
DTSTAMP:20260423T215114Z
SUMMARY:Squire Sports Intramurals
LOCATION:US Gym and Outside
URL;VALUE=URI:https://www.rak12.org/calendar/8940879/squire-sports-intramur
 als
DTSTART:20260429T173000Z
DTEND:20260429T193000Z
END:VEVENT
END:VCALENDAR
