BEGIN:VCALENDAR
VERSION:2.0
PRODID:SchoolNow
CALSCALE:GREGORIAN
BEGIN:VEVENT
UID:619641d6-2712-11f1-acb3-0a58a9feac02
DTSTAMP:20260423T215114Z
SUMMARY:Squire Sports Intramurals
LOCATION:US Gym and Outside
URL;VALUE=URI:https://www.rak12.org/calendar/8940880/squire-sports-intramur
 als
DTSTART:20260415T173000Z
DTEND:20260415T193000Z
END:VEVENT
END:VCALENDAR
