BEGIN:VCALENDAR
VERSION:2.0
PRODID:SchoolNow
CALSCALE:GREGORIAN
BEGIN:VEVENT
UID:6196467c-2712-11f1-a45a-0a58a9feac02
DTSTAMP:20260423T215114Z
SUMMARY:Squire Sports Intramurals
LOCATION:US Gym and Outside
URL;VALUE=URI:https://www.rak12.org/calendar/8940881/squire-sports-intramur
 als
DTSTART:20260506T173000Z
DTEND:20260506T193000Z
END:VEVENT
END:VCALENDAR
