BEGIN:VCALENDAR
VERSION:2.0
PRODID:SchoolNow
CALSCALE:GREGORIAN
BEGIN:VEVENT
UID:64568790-2722-11f1-82d3-0a58a9feac02
DTSTAMP:20260423T234007Z
SUMMARY:POSTPONED: Middle School Girls Softball vs Calvary Christian Academ
 y
LOCATION:Fillmore Street and Franklin Avenue Phoenixville\, PA 19460
URL;VALUE=URI:https://www.rak12.org/calendar/8940886/postponed-middle-schoo
 l-girls-softball-vs-calvary-christian-academy
DTSTART:20260327T194500Z
DTEND:20260327T204500Z
END:VEVENT
END:VCALENDAR
