BEGIN:VCALENDAR
VERSION:2.0
PRODID:SchoolNow
CALSCALE:GREGORIAN
BEGIN:VEVENT
UID:5dcedf6a-27ab-11f1-851e-0affea9bfff3
DTSTAMP:20260423T215115Z
SUMMARY:AP European History Review Session
LOCATION:Room 204
URL;VALUE=URI:https://www.rak12.org/calendar/8942853/ap-european-history-re
 view-session
DTSTART:20260414T193000Z
DTEND:20260414T204500Z
END:VEVENT
END:VCALENDAR
