BEGIN:VCALENDAR
VERSION:2.0
PRODID:SchoolNow
CALSCALE:GREGORIAN
BEGIN:VEVENT
UID:5dea02f4-27ab-11f1-aec6-0affea9bfff3
DTSTAMP:20260423T215114Z
SUMMARY:AP European History Review Session
LOCATION:Room 204
URL;VALUE=URI:https://www.rak12.org/calendar/8942854/ap-european-history-re
 view-session
DTSTART:20260502T130000Z
DTEND:20260502T160000Z
END:VEVENT
END:VCALENDAR
