BEGIN:VCALENDAR
VERSION:2.0
PRODID:SchoolNow
CALSCALE:GREGORIAN
BEGIN:VEVENT
UID:5dea09c0-27ab-11f1-80ae-0affea9bfff3
DTSTAMP:20260423T215115Z
SUMMARY:AP European History Review Session
LOCATION:Room 204
URL;VALUE=URI:https://www.rak12.org/calendar/8942855/ap-european-history-re
 view-session
DTSTART:20260418T130000Z
DTEND:20260418T150000Z
END:VEVENT
END:VCALENDAR
