BEGIN:VCALENDAR
VERSION:2.0
PRODID:SchoolNow
CALSCALE:GREGORIAN
BEGIN:VEVENT
UID:5e104d6a-27ab-11f1-8edd-0affea9bfff3
DTSTAMP:20260423T215114Z
SUMMARY:AP European History Review Session
LOCATION:Room 204
URL;VALUE=URI:https://www.rak12.org/calendar/8942859/ap-european-history-re
 view-session
DTSTART:20260416T193000Z
DTEND:20260416T204500Z
END:VEVENT
END:VCALENDAR
