BEGIN:VCALENDAR
VERSION:2.0
PRODID:SchoolNow
CALSCALE:GREGORIAN
BEGIN:VEVENT
UID:5cc78c42-27bb-11f1-bdac-0affdf2300ab
DTSTAMP:20260423T234007Z
SUMMARY:Varsity Boys Baseball @ Academy Park High School
LOCATION:300 Calcon Hook Rd Sharon Hill\, PA 19079
URL;VALUE=URI:https://www.rak12.org/calendar/8942905/varsity-boys-baseball-
 academy-park-high-school
DTSTART:20260514T194500Z
DTEND:20260514T204500Z
END:VEVENT
END:VCALENDAR
