BEGIN:VCALENDAR
VERSION:2.0
PRODID:SchoolNow
CALSCALE:GREGORIAN
BEGIN:VEVENT
UID:5cce9ce4-27bb-11f1-a336-0affdf2300ab
DTSTAMP:20260423T234007Z
SUMMARY:Middle School Boys Baseball  (Practice)
LOCATION:Fillmore Street and Franklin Avenue Phoenixville\, PA 19460
URL;VALUE=URI:https://www.rak12.org/calendar/8942908/middle-school-boys-bas
 eball-practice
DTSTART:20260325T193000Z
DTEND:20260325T203000Z
END:VEVENT
END:VCALENDAR
