BEGIN:VCALENDAR
VERSION:2.0
PRODID:SchoolNow
CALSCALE:GREGORIAN
BEGIN:VEVENT
UID:5cd9a3dc-27bb-11f1-acee-0affdf2300ab
DTSTAMP:20260423T173508Z
SUMMARY:Middle School Girls Softball @ Morrisville MS/HS
LOCATION:97 n Delmorr Ave Morrisville\, PA 19067
URL;VALUE=URI:https://www.rak12.org/calendar/8942909/middle-school-girls-so
 ftball-morrisville-ms-hs
DTSTART:20260401T194500Z
DTEND:20260401T204500Z
END:VEVENT
END:VCALENDAR
