BEGIN:VCALENDAR
VERSION:2.0
PRODID:SchoolNow
CALSCALE:GREGORIAN
BEGIN:VEVENT
UID:5cd9ad50-27bb-11f1-835a-0affdf2300ab
DTSTAMP:20260423T234008Z
SUMMARY:Varsity Girls Softball @ Academy Park High School
LOCATION:300 Calcon Hook Rd Sharon Hill\, PA 19079
URL;VALUE=URI:https://www.rak12.org/calendar/8942911/varsity-girls-softball
 -academy-park-high-school
DTSTART:20260514T194500Z
DTEND:20260514T204500Z
END:VEVENT
END:VCALENDAR
