BEGIN:VCALENDAR
VERSION:2.0
PRODID:SchoolNow
CALSCALE:GREGORIAN
BEGIN:VEVENT
UID:51f7c43c-2877-11f1-a868-0a58a9feac02
DTSTAMP:20260423T215114Z
SUMMARY:Adult Basketball
LOCATION:US Gym
URL;VALUE=URI:https://www.rak12.org/calendar/8945387/adult-basketball
DTSTART:20260504T220000Z
DTEND:20260505T000000Z
END:VEVENT
END:VCALENDAR
