BEGIN:VCALENDAR
VERSION:2.0
PRODID:SchoolNow
CALSCALE:GREGORIAN
BEGIN:VEVENT
UID:94e9aa90-2952-11f1-a3bb-0a58a9feac02
DTSTAMP:20260423T234008Z
SUMMARY:Middle School Girls Softball  (Practice)
LOCATION:Fillmore Street and Franklin Avenue Phoenixville\, PA 19460
URL;VALUE=URI:https://www.rak12.org/calendar/8947952/middle-school-girls-so
 ftball-practice
DTSTART:20260326T193000Z
DTEND:20260326T203000Z
END:VEVENT
END:VCALENDAR
