BEGIN:VCALENDAR
VERSION:2.0
PRODID:SchoolNow
CALSCALE:GREGORIAN
BEGIN:VEVENT
UID:3c660ad6-2a0f-11f1-bb63-02112f9c42cb
DTSTAMP:20260423T215114Z
SUMMARY:Mental Health Awareness Activity
LOCATION:1st Floor Flex
URL;VALUE=URI:https://www.rak12.org/calendar/8950748/mental-health-awarenes
 s-activity
DTSTART:20260519T142900Z
DTEND:20260519T150900Z
END:VEVENT
END:VCALENDAR
