BEGIN:VCALENDAR
VERSION:2.0
PRODID:SchoolNow
CALSCALE:GREGORIAN
BEGIN:VEVENT
UID:8a9841d8-2a1e-11f1-8447-0a58a9feac02
DTSTAMP:20260423T173509Z
SUMMARY:Middle School Girls Softball vs Calvary Christian Academy
LOCATION:Fillmore Street and Franklin Avenue Phoenixville\, PA 19460
URL;VALUE=URI:https://www.rak12.org/calendar/8950764/middle-school-girls-so
 ftball-vs-calvary-christian-academy
DTSTART:20260427T194500Z
DTEND:20260427T204500Z
END:VEVENT
END:VCALENDAR
