BEGIN:VCALENDAR
VERSION:2.0
PRODID:SchoolNow
CALSCALE:GREGORIAN
BEGIN:VEVENT
UID:6b612436-2c82-11f1-8b88-0affe5ac3143
DTSTAMP:20260423T173508Z
SUMMARY:CANCELLED: Varsity Girls Track & Field  Practice (Practice)
URL;VALUE=URI:https://www.rak12.org/calendar/8958639/cancelled-varsity-girl
 s-track-field-practice-practice
DTSTART:20260403T193000Z
DTEND:20260403T203000Z
END:VEVENT
END:VCALENDAR
