BEGIN:VCALENDAR
VERSION:2.0
PRODID:SchoolNow
CALSCALE:GREGORIAN
BEGIN:VEVENT
UID:6b612a62-2c82-11f1-a7a2-0affe5ac3143
DTSTAMP:20260423T173508Z
SUMMARY:Varsity Girls Track & Field  Practice (Practice)
URL;VALUE=URI:https://www.rak12.org/calendar/8958640/varsity-girls-track-fi
 eld-practice-practice
DTSTART:20260428T193000Z
DTEND:20260428T203000Z
END:VEVENT
END:VCALENDAR
