BEGIN:VCALENDAR
VERSION:2.0
PRODID:SchoolNow
CALSCALE:GREGORIAN
BEGIN:VEVENT
UID:6b613228-2c82-11f1-ba03-0affe5ac3143
DTSTAMP:20260423T234008Z
SUMMARY:Varsity Boys Track & Field  Practice (Practice)
URL;VALUE=URI:https://www.rak12.org/calendar/8958645/varsity-boys-track-fie
 ld-practice-practice
DTSTART:20260507T193000Z
DTEND:20260507T203000Z
END:VEVENT
END:VCALENDAR
