BEGIN:VCALENDAR
VERSION:2.0
PRODID:SchoolNow
CALSCALE:GREGORIAN
BEGIN:VEVENT
UID:6b6134da-2c82-11f1-a539-0affe5ac3143
DTSTAMP:20260423T173508Z
SUMMARY:Varsity Boys Track & Field  Practice (Practice)
URL;VALUE=URI:https://www.rak12.org/calendar/8958646/varsity-boys-track-fie
 ld-practice-practice
DTSTART:20260413T193000Z
DTEND:20260413T203000Z
END:VEVENT
END:VCALENDAR
