BEGIN:VCALENDAR
VERSION:2.0
PRODID:SchoolNow
CALSCALE:GREGORIAN
BEGIN:VEVENT
UID:6bd6fd82-2c82-11f1-96c8-0affe5ac3143
DTSTAMP:20260423T173508Z
SUMMARY:Varsity Girls Track & Field  Practice (Practice)
URL;VALUE=URI:https://www.rak12.org/calendar/8958647/varsity-girls-track-fi
 eld-practice-practice
DTSTART:20260401T193000Z
DTEND:20260401T203000Z
END:VEVENT
END:VCALENDAR
