BEGIN:VCALENDAR
VERSION:2.0
PRODID:SchoolNow
CALSCALE:GREGORIAN
BEGIN:VEVENT
UID:6bd70a70-2c82-11f1-9885-0affe5ac3143
DTSTAMP:20260423T234007Z
SUMMARY:Varsity Girls Track & Field  Practice (Practice)
URL;VALUE=URI:https://www.rak12.org/calendar/8958651/varsity-girls-track-fi
 eld-practice-practice
DTSTART:20260505T193000Z
DTEND:20260505T203000Z
END:VEVENT
END:VCALENDAR
