BEGIN:VCALENDAR
VERSION:2.0
PRODID:SchoolNow
CALSCALE:GREGORIAN
BEGIN:VEVENT
UID:6bd70d5e-2c82-11f1-9f99-0affe5ac3143
DTSTAMP:20260423T234008Z
SUMMARY:Varsity Boys Track & Field  Practice (Practice)
URL;VALUE=URI:https://www.rak12.org/calendar/8958653/varsity-boys-track-fie
 ld-practice-practice
DTSTART:20260505T193000Z
DTEND:20260505T203000Z
END:VEVENT
END:VCALENDAR
