BEGIN:VCALENDAR
VERSION:2.0
PRODID:SchoolNow
CALSCALE:GREGORIAN
BEGIN:VEVENT
UID:6be401a8-2c82-11f1-bbc3-0affe5ac3143
DTSTAMP:20260423T173508Z
SUMMARY:Varsity Boys Track & Field  Practice (Practice)
URL;VALUE=URI:https://www.rak12.org/calendar/8958658/varsity-boys-track-fie
 ld-practice-practice
DTSTART:20260427T193000Z
DTEND:20260427T203000Z
END:VEVENT
END:VCALENDAR
