BEGIN:VCALENDAR
VERSION:2.0
PRODID:SchoolNow
CALSCALE:GREGORIAN
BEGIN:VEVENT
UID:6be44866-2c82-11f1-b204-0affe5ac3143
DTSTAMP:20260423T173509Z
SUMMARY:CANCELLED: Varsity Boys Track & Field  Practice (Practice)
URL;VALUE=URI:https://www.rak12.org/calendar/8958661/cancelled-varsity-boys
 -track-field-practice-practice
DTSTART:20260403T193000Z
DTEND:20260403T203000Z
END:VEVENT
END:VCALENDAR
