BEGIN:VCALENDAR
VERSION:2.0
PRODID:SchoolNow
CALSCALE:GREGORIAN
BEGIN:VEVENT
UID:6be48d26-2c82-11f1-9b36-0affe5ac3143
DTSTAMP:20260423T173508Z
SUMMARY:CANCELLED: Varsity Boys Track & Field  Practice (Practice)
URL;VALUE=URI:https://www.rak12.org/calendar/8958665/cancelled-varsity-boys
 -track-field-practice-practice
DTSTART:20260416T193000Z
DTEND:20260416T203000Z
END:VEVENT
END:VCALENDAR
