BEGIN:VCALENDAR
VERSION:2.0
PRODID:SchoolNow
CALSCALE:GREGORIAN
BEGIN:VEVENT
UID:6bef2b78-2c82-11f1-9977-0affe5ac3143
DTSTAMP:20260423T173508Z
SUMMARY:Varsity Boys Track & Field  Practice (Practice)
URL;VALUE=URI:https://www.rak12.org/calendar/8958667/varsity-boys-track-fie
 ld-practice-practice
DTSTART:20260428T193000Z
DTEND:20260428T203000Z
END:VEVENT
END:VCALENDAR
