BEGIN:VCALENDAR
VERSION:2.0
PRODID:SchoolNow
CALSCALE:GREGORIAN
BEGIN:VEVENT
UID:6bfcb7d4-2c82-11f1-8098-0affe5ac3143
DTSTAMP:20260423T234007Z
SUMMARY:Varsity Boys Track & Field  Practice (Practice)
URL;VALUE=URI:https://www.rak12.org/calendar/8958676/varsity-boys-track-fie
 ld-practice-practice
DTSTART:20260511T193000Z
DTEND:20260511T203000Z
END:VEVENT
END:VCALENDAR
