BEGIN:VCALENDAR
VERSION:2.0
PRODID:SchoolNow
CALSCALE:GREGORIAN
BEGIN:VEVENT
UID:6bfcbbd0-2c82-11f1-8c68-0affe5ac3143
DTSTAMP:20260423T173509Z
SUMMARY:Varsity Girls Track & Field  Practice (Practice)
URL;VALUE=URI:https://www.rak12.org/calendar/8958678/varsity-girls-track-fi
 eld-practice-practice
DTSTART:20260415T193000Z
DTEND:20260415T203000Z
END:VEVENT
END:VCALENDAR
