BEGIN:VCALENDAR
VERSION:2.0
PRODID:SchoolNow
CALSCALE:GREGORIAN
BEGIN:VEVENT
UID:6bfcc0da-2c82-11f1-b8c1-0affe5ac3143
DTSTAMP:20260423T173508Z
SUMMARY:Varsity Girls Track & Field @ Penn Relays
URL;VALUE=URI:https://www.rak12.org/calendar/8958681/varsity-girls-track-fi
 eld-penn-relays
DTSTART:20260423T120000Z
DTEND:20260423T130000Z
END:VEVENT
END:VCALENDAR
